BEGIN:VCALENDAR
VERSION:2.0
PRODID:-//The Balance of Gaia - ECPv6.15.20//NONSGML v1.0//EN
CALSCALE:GREGORIAN
METHOD:PUBLISH
X-WR-CALNAME:The Balance of Gaia
X-ORIGINAL-URL:https://thebalanceofgaia.com
X-WR-CALDESC:Events for The Balance of Gaia
REFRESH-INTERVAL;VALUE=DURATION:PT1H
X-Robots-Tag:noindex
X-PUBLISHED-TTL:PT1H
BEGIN:VTIMEZONE
TZID:UTC
BEGIN:STANDARD
TZOFFSETFROM:+0000
TZOFFSETTO:+0000
TZNAME:UTC
DTSTART:20250101T000000
END:STANDARD
END:VTIMEZONE
BEGIN:VEVENT
DTSTART;TZID=UTC:20260324T170000
DTEND;TZID=UTC:20260324T210000
DTSTAMP:20260425T150639
CREATED:20260320T181125Z
LAST-MODIFIED:20260320T181125Z
UID:1888-1774371600-1774386000@thebalanceofgaia.com
SUMMARY:Spring Equinox - How to Play Event
DESCRIPTION:
URL:https://thebalanceofgaia.com/event/spring-equinox-how-to-play-event/
LOCATION:Layton Gaming\, 1140 E Altamonte Dr\, Unit 1041\, Altamonte Springs\, FL\, 32701\, United States
END:VEVENT
END:VCALENDAR