BEGIN:VCALENDAR
VERSION:2.0
PRODID:-//The Balance of Gaia - ECPv6.15.20//NONSGML v1.0//EN
CALSCALE:GREGORIAN
METHOD:PUBLISH
X-WR-CALNAME:The Balance of Gaia
X-ORIGINAL-URL:https://thebalanceofgaia.com
X-WR-CALDESC:Events for The Balance of Gaia
REFRESH-INTERVAL;VALUE=DURATION:PT1H
X-Robots-Tag:noindex
X-PUBLISHED-TTL:PT1H
BEGIN:VTIMEZONE
TZID:UTC
BEGIN:STANDARD
TZOFFSETFROM:+0000
TZOFFSETTO:+0000
TZNAME:UTC
DTSTART:20240101T000000
END:STANDARD
END:VTIMEZONE
BEGIN:VEVENT
DTSTART;TZID=UTC:20250903T173000
DTEND;TZID=UTC:20250903T223000
DTSTAMP:20260425T151229
CREATED:20250831T185015Z
LAST-MODIFIED:20250831T185015Z
UID:1588-1756920600-1756938600@thebalanceofgaia.com
SUMMARY:Tiger's Birthday Game Day
DESCRIPTION:Come celebrate with Gaia! Contact Tiger for venue.
URL:https://thebalanceofgaia.com/event/tigers-birthday-game-day/
LOCATION:FL
ORGANIZER;CN="Tiger Tarell":MAILTO:thebalanceofgaia@gmail.com
END:VEVENT
END:VCALENDAR